BEGIN:VCALENDAR
VERSION:2.0
PRODID:GlueUp
CALSCALE:GREGORIAN
BEGIN:VTIMEZONE
TZID:UTC
BEGIN:STANDARD
DTSTART:19700101T000000
TZOFFSETFROM:+0000
TZOFFSETTO:+0000
TZNAME:UTC
END:STANDARD
END:VTIMEZONE
BEGIN:VEVENT
TZ:+00
ORGANIZER;CN=Агапова Юлия Владимировна:MAILTO:juliyaagapova@gmail.com
UID:3294-1776953522@https://medsestrespb.glueup.ru
DTSTAMP:20260423T141202Z
DTSTART:20230505T090000Z
DTEND:20230505T103000Z
SUMMARY:Органный концерт, посвященный празднованию Международного дня акушерки
DESCRIPTION:"Органный концерт, посвященный празднованию Международного дня акушерки" организовано "РАМС-Санкт-Петербург"\n\nМай 5 2023 (17:00 - 18:30)(GMT+8)\n\nДля получения дополнительной информации нажмите здесь: https://medsestrespb.glueup.ru/my/events/3294
LOCATION:СПб, В.О. Менделеевская линия д. 3, Институт АГиР им. Д.О. Отта - СПб - В.О. Менделеевская линия д. 3 - Институт АГиР им. Д.О. Отта Санкт-Петербург
BEGIN:VALARM
TRIGGER:-PT48H
REPEAT:4
DURATION:PT30M
ACTION:DISPLAY
END:VALARM
END:VEVENT
END:VCALENDAR