BEGIN:VCALENDAR
VERSION:2.0
PRODID:GlueUp
CALSCALE:GREGORIAN
BEGIN:VTIMEZONE
TZID:UTC
BEGIN:STANDARD
DTSTART:19700101T000000
TZOFFSETFROM:+0000
TZOFFSETTO:+0000
TZNAME:UTC
END:STANDARD
END:VTIMEZONE
BEGIN:VEVENT
TZ:+00
ORGANIZER;CN=Агапова Юлия Владимировна:MAILTO:juliyaagapova@gmail.com
UID:5372-1776953543@https://medsestrespb.glueup.ru
DTSTAMP:20260423T141223Z
DTSTART:20260422T100000Z
DTEND:20260422T125000Z
SUMMARY:НПК "Медицинская сестра в составе мультидисциплинарной реабилитационной команды"
DESCRIPTION:"НПК "Медицинская сестра в составе мультидисциплинарной реабилитационной команды"" организовано "РАМС-Санкт-Петербург"\n\nАпр 22 2026 (13:00 - 15:50)(GMT+3)\n\nДля получения дополнительной информации нажмите здесь: https://medsestrespb.glueup.ru/my/events/5372
LOCATION:Мытницкая ул. д. 25 - СПБ ГБУЗ «Детская городская поликлиника № 44» Санкт-Петербург - Российская Федерация
BEGIN:VALARM
TRIGGER:-PT48H
REPEAT:4
DURATION:PT30M
ACTION:DISPLAY
END:VALARM
END:VEVENT
END:VCALENDAR