BEGIN:VCALENDAR
VERSION:2.0
PRODID:GlueUp
CALSCALE:GREGORIAN
BEGIN:VTIMEZONE
TZID:UTC
BEGIN:STANDARD
DTSTART:19700101T000000
TZOFFSETFROM:+0000
TZOFFSETTO:+0000
TZNAME:UTC
END:STANDARD
END:VTIMEZONE
BEGIN:VEVENT
TZ:+00
ORGANIZER;CN=Перцева Светлана Николаевна:MAILTO:stmilano@yandex.ru
UID:3375-1776953460@https://medsestrespb.glueup.ru
DTSTAMP:20260423T141100Z
DTSTART:20230603T020000Z
DTEND:20230603T082000Z
SUMMARY:V НПК «Современные вопросы офтальмологии  в практике медицинской сестры»
DESCRIPTION:"V НПК «Современные вопросы офтальмологии  в практике медицинской сестры»" организовано "РАМС-Санкт-Петербург"\n\nИюн 3 2023 (10:00 - 16:20)(GMT+8)\n\nДля получения дополнительной информации нажмите здесь: https://medsestrespb.glueup.ru/my/events/3375
LOCATION:Лиговский пр., д. 52 - Лиговский проспект д. 52 - Клиника микрохирургии глаза "Счастливый взгляд" Санкт-Петербург - Российская Федерация
BEGIN:VALARM
TRIGGER:-PT48H
REPEAT:4
DURATION:PT30M
ACTION:DISPLAY
END:VALARM
END:VEVENT
END:VCALENDAR