BEGIN:VCALENDAR
VERSION:2.0
PRODID:GlueUp
CALSCALE:GREGORIAN
BEGIN:VTIMEZONE
TZID:UTC
BEGIN:STANDARD
DTSTART:19700101T000000
TZOFFSETFROM:+0000
TZOFFSETTO:+0000
TZNAME:UTC
END:STANDARD
END:VTIMEZONE
BEGIN:VEVENT
TZ:+00
ORGANIZER;CN=Агапова Юлия Владимировна:MAILTO:juliyaagapova@gmail.com
UID:4569-1776953354@https://medsestrespb.glueup.ru
DTSTAMP:20260423T140914Z
DTSTART:20241220T110000Z
DTEND:20241220T150000Z
SUMMARY:VI научно-практическая конференция «Современные аспекты управления в сестринском деле»
DESCRIPTION:"VI научно-практическая конференция «Современные аспекты управления в сестринском деле»" организовано "РАМС-Санкт-Петербург"\n\nДек 20 2024 (14:00 - 18:00)(GMT+3)\n\nДля получения дополнительной информации нажмите здесь: https://medsestrespb.glueup.ru/my/events/4569
LOCATION:ЧОУ ДПО «Академия медицинского образования им. Ф.И.Иноземцева» - Миллионная улица 29 Санкт-Петербург - Российская Федерация
BEGIN:VALARM
TRIGGER:-PT48H
REPEAT:4
DURATION:PT30M
ACTION:DISPLAY
END:VALARM
END:VEVENT
END:VCALENDAR