BEGIN:VCALENDAR
VERSION:2.0
PRODID:GlueUp
CALSCALE:GREGORIAN
BEGIN:VTIMEZONE
TZID:UTC
BEGIN:STANDARD
DTSTART:19700101T000000
TZOFFSETFROM:+0000
TZOFFSETTO:+0000
TZNAME:UTC
END:STANDARD
END:VTIMEZONE
BEGIN:VEVENT
TZ:+00
ORGANIZER;CN=Агапова Юлия Владимировна:MAILTO:juliyaagapova@gmail.com
UID:3867-1776953369@https://medsestrespb.glueup.ru
DTSTAMP:20260423T140929Z
DTSTART:20240222T133000Z
DTEND:20240222T154000Z
SUMMARY:Сестринская секция в рамках Всероссийской конференции с международным участием «Глаукомный университет: междисциплинарный подход»
DESCRIPTION:"Сестринская секция в рамках Всероссийской конференции с международным участием «Глаукомный университет: междисциплинарный подход»" организовано "РАМС-Санкт-Петербург"\n\nФев 22 2024 (16:30 - 18:40)(GMT+3)\n\nДля получения дополнительной информации нажмите здесь: https://medsestrespb.glueup.ru/my/events/3867
LOCATION:Отель "Московские Ворота" - Московский проспект 97А Санкт-Петербург - Российская Федерация
BEGIN:VALARM
TRIGGER:-PT48H
REPEAT:4
DURATION:PT30M
ACTION:DISPLAY
END:VALARM
END:VEVENT
END:VCALENDAR